BEGIN:VCALENDAR
VERSION:2.0
PRODID:-//Rhythm &amp; Motion Dance Studio - ECPv6.0.7.1//NONSGML v1.0//EN
CALSCALE:GREGORIAN
METHOD:PUBLISH
X-WR-CALNAME:Rhythm &amp; Motion Dance Studio
X-ORIGINAL-URL:https://www.rhythmandmotion.ca
X-WR-CALDESC:Events for Rhythm &amp; Motion Dance Studio
REFRESH-INTERVAL;VALUE=DURATION:PT1H
X-Robots-Tag:noindex
X-PUBLISHED-TTL:PT1H
BEGIN:VTIMEZONE
TZID:America/Toronto
BEGIN:DAYLIGHT
TZOFFSETFROM:-0500
TZOFFSETTO:-0400
TZNAME:EDT
DTSTART:20230312T070000
END:DAYLIGHT
BEGIN:STANDARD
TZOFFSETFROM:-0400
TZOFFSETTO:-0500
TZNAME:EST
DTSTART:20231105T060000
END:STANDARD
END:VTIMEZONE
BEGIN:VEVENT
DTSTART;TZID=America/Toronto:20231101T190000
DTEND;TZID=America/Toronto:20231101T220000
DTSTAMP:20260421T160806
CREATED:20230818T172512Z
LAST-MODIFIED:20231006T223952Z
UID:10033018-1698865200-1698876000@www.rhythmandmotion.ca
SUMMARY:Tango Technique Drills Part 1
DESCRIPTION:
URL:https://www.rhythmandmotion.ca/event/workshop-2023-11-01
LOCATION:The Continental Dance Club\, 3141 Wharton Way\, Mississauga\, Ontario\, L4X 2B6\, Canada
CATEGORIES:Argentine Tango,Featured,Workshop
ATTACH;FMTTYPE=image/jpeg:https://www.rhythmandmotion.ca/wp-content/uploads/2023/08/Tango_Technique-2023-11-01.jpg
END:VEVENT
BEGIN:VEVENT
DTSTART;TZID=America/Toronto:20231108T190000
DTEND;TZID=America/Toronto:20231108T220000
DTSTAMP:20260421T160806
CREATED:20231006T223815Z
LAST-MODIFIED:20231006T224028Z
UID:10033025-1699470000-1699480800@www.rhythmandmotion.ca
SUMMARY:Tango Technique Drills Part 2
DESCRIPTION:
URL:https://www.rhythmandmotion.ca/event/workshop-2023-11-08
LOCATION:The Continental Dance Club\, 3141 Wharton Way\, Mississauga\, Ontario\, L4X 2B6\, Canada
CATEGORIES:Argentine Tango,Featured,Workshop
ATTACH;FMTTYPE=image/jpeg:https://www.rhythmandmotion.ca/wp-content/uploads/2023/08/Tango_Technique-2023-11-01.jpg
END:VEVENT
BEGIN:VEVENT
DTSTART;TZID=America/Toronto:20231115T190000
DTEND;TZID=America/Toronto:20231115T203000
DTSTAMP:20260421T160806
CREATED:20230818T165823Z
LAST-MODIFIED:20230818T170041Z
UID:10033011-1700074800-1700080200@www.rhythmandmotion.ca
SUMMARY:Argentine Tango Beginner Intermediate
DESCRIPTION:Fall Session #3\n4 classes:\nWednesday\, November 15\nWednesday\, November 22\nWednesday\, November 29\nWednesday\, December 6
URL:https://www.rhythmandmotion.ca/event/argentine-tango-beginner-intermediate-12
LOCATION:The Continental Dance Club\, 3141 Wharton Way\, Mississauga\, Ontario\, L4X 2B6\, Canada
CATEGORIES:Argentine Tango,Group Class
END:VEVENT
BEGIN:VEVENT
DTSTART;TZID=America/Toronto:20231115T203000
DTEND;TZID=America/Toronto:20231115T220000
DTSTAMP:20260421T160806
CREATED:20230818T165828Z
LAST-MODIFIED:20230818T170106Z
UID:10033012-1700080200-1700085600@www.rhythmandmotion.ca
SUMMARY:Argentine Tango Intermediate Advanced
DESCRIPTION:Fall Session #3\n4 classes:\nWednesday\, November 15\nWednesday\, November 22\nWednesday\, November 29\nWednesday\, December 6
URL:https://www.rhythmandmotion.ca/event/argentine-tango-intermediate-advanced-13
LOCATION:The Continental Dance Club\, 3141 Wharton Way\, Mississauga\, Ontario\, L4X 2B6\, Canada
CATEGORIES:Argentine Tango,Group Class
END:VEVENT
BEGIN:VEVENT
DTSTART;TZID=America/Toronto:20231122T190000
DTEND;TZID=America/Toronto:20231122T203000
DTSTAMP:20260421T160806
CREATED:20230818T165819Z
LAST-MODIFIED:20230818T170224Z
UID:10033010-1700679600-1700685000@www.rhythmandmotion.ca
SUMMARY:Argentine Tango Beginner Intermediate
DESCRIPTION:Fall Session #3\n4 classes:\nWednesday\, November 15\nWednesday\, November 22\nWednesday\, November 29\nWednesday\, December 6
URL:https://www.rhythmandmotion.ca/event/argentine-tango-beginner-intermediate-11/2023-11-22
LOCATION:The Continental Dance Club\, 3141 Wharton Way\, Mississauga\, Ontario\, L4X 2B6\, Canada
CATEGORIES:Argentine Tango,Group Class
END:VEVENT
BEGIN:VEVENT
DTSTART;TZID=America/Toronto:20231122T203000
DTEND;TZID=America/Toronto:20231122T220000
DTSTAMP:20260421T160806
CREATED:20230818T165833Z
LAST-MODIFIED:20230818T170232Z
UID:10033013-1700685000-1700690400@www.rhythmandmotion.ca
SUMMARY:Argentine Tango Intermediate Advanced
DESCRIPTION:Fall Session #3\n4 classes:\nWednesday\, November 15\nWednesday\, November 22\nWednesday\, November 29\nWednesday\, December 6
URL:https://www.rhythmandmotion.ca/event/argentine-tango-intermediate-advanced-14/2023-11-22
LOCATION:The Continental Dance Club\, 3141 Wharton Way\, Mississauga\, Ontario\, L4X 2B6\, Canada
CATEGORIES:Argentine Tango,Group Class
END:VEVENT
BEGIN:VEVENT
DTSTART;TZID=America/Toronto:20231125T194500
DTEND;TZID=America/Toronto:20231125T210000
DTSTAMP:20260421T160806
CREATED:20231115T020317Z
LAST-MODIFIED:20231115T020430Z
UID:10033028-1700941500-1700946000@www.rhythmandmotion.ca
SUMMARY:Milonga Class with Jorge
DESCRIPTION:
URL:https://www.rhythmandmotion.ca/event/tango-workshop-2023-11-25
LOCATION:The Continental Dance Club\, 3141 Wharton Way\, Mississauga\, Ontario\, L4X 2B6\, Canada
CATEGORIES:Argentine Tango,Featured,Workshop
ATTACH;FMTTYPE=image/jpeg:https://www.rhythmandmotion.ca/wp-content/uploads/2023/08/Tango_Workshops_Jorge_2023-11-25.jpg
END:VEVENT
BEGIN:VEVENT
DTSTART;TZID=America/Toronto:20231125T210000
DTEND;TZID=America/Toronto:20231126T010000
DTSTAMP:20260421T160806
CREATED:20230818T173145Z
LAST-MODIFIED:20231115T034243Z
UID:10033021-1700946000-1700960400@www.rhythmandmotion.ca
SUMMARY:28th Anniversary of R&M
DESCRIPTION:Don’t forget to register for special milonga class at 7:45pm\, just before 28th Anniversary. \nTo register for this class\, click here. \n  \n \n 
URL:https://www.rhythmandmotion.ca/event/milonga-portena-2023-11-25
LOCATION:The Continental Dance Club\, 3141 Wharton Way\, Mississauga\, Ontario\, L4X 2B6\, Canada
CATEGORIES:Argentine Tango,Featured,Milonga
ATTACH;FMTTYPE=image/jpeg:https://www.rhythmandmotion.ca/wp-content/uploads/2023/08/Milonga-Portena-2023-11-25-v2.jpg
END:VEVENT
BEGIN:VEVENT
DTSTART;TZID=America/Toronto:20231126T123000
DTEND;TZID=America/Toronto:20231126T153000
DTSTAMP:20260421T160806
CREATED:20231026T204348Z
LAST-MODIFIED:20231115T014808Z
UID:10033027-1701001800-1701012600@www.rhythmandmotion.ca
SUMMARY:Tango Workshops with Jorge
DESCRIPTION:https://puntotango.ca/
URL:https://www.rhythmandmotion.ca/event/tango-workshops-2023-11-26
LOCATION:The Continental Dance Club\, 3141 Wharton Way\, Mississauga\, Ontario\, L4X 2B6\, Canada
CATEGORIES:Argentine Tango,Featured,Workshop
ATTACH;FMTTYPE=image/jpeg:https://www.rhythmandmotion.ca/wp-content/uploads/2023/10/Tango_Workshops_Jorge_2023-11-26-v2.jpg
END:VEVENT
BEGIN:VEVENT
DTSTART;TZID=America/Toronto:20231129T190000
DTEND;TZID=America/Toronto:20231129T203000
DTSTAMP:20260421T160806
CREATED:20230818T165819Z
LAST-MODIFIED:20230818T170224Z
UID:10033014-1701284400-1701289800@www.rhythmandmotion.ca
SUMMARY:Argentine Tango Beginner Intermediate
DESCRIPTION:Fall Session #3\n4 classes:\nWednesday\, November 15\nWednesday\, November 22\nWednesday\, November 29\nWednesday\, December 6
URL:https://www.rhythmandmotion.ca/event/argentine-tango-beginner-intermediate-11/2023-11-29
LOCATION:The Continental Dance Club\, 3141 Wharton Way\, Mississauga\, Ontario\, L4X 2B6\, Canada
CATEGORIES:Argentine Tango,Group Class
END:VEVENT
BEGIN:VEVENT
DTSTART;TZID=America/Toronto:20231129T203000
DTEND;TZID=America/Toronto:20231129T220000
DTSTAMP:20260421T160806
CREATED:20230818T165833Z
LAST-MODIFIED:20230818T170232Z
UID:10033016-1701289800-1701295200@www.rhythmandmotion.ca
SUMMARY:Argentine Tango Intermediate Advanced
DESCRIPTION:Fall Session #3\n4 classes:\nWednesday\, November 15\nWednesday\, November 22\nWednesday\, November 29\nWednesday\, December 6
URL:https://www.rhythmandmotion.ca/event/argentine-tango-intermediate-advanced-14/2023-11-29
LOCATION:The Continental Dance Club\, 3141 Wharton Way\, Mississauga\, Ontario\, L4X 2B6\, Canada
CATEGORIES:Argentine Tango,Group Class
END:VEVENT
END:VCALENDAR