BEGIN:VCALENDAR
VERSION:2.0
PRODID:-//Rhythm &amp; Motion Dance Studio - ECPv6.0.7.1//NONSGML v1.0//EN
CALSCALE:GREGORIAN
METHOD:PUBLISH
X-WR-CALNAME:Rhythm &amp; Motion Dance Studio
X-ORIGINAL-URL:https://www.rhythmandmotion.ca
X-WR-CALDESC:Events for Rhythm &amp; Motion Dance Studio
REFRESH-INTERVAL;VALUE=DURATION:PT1H
X-Robots-Tag:noindex
X-PUBLISHED-TTL:PT1H
BEGIN:VTIMEZONE
TZID:America/Toronto
BEGIN:DAYLIGHT
TZOFFSETFROM:-0500
TZOFFSETTO:-0400
TZNAME:EDT
DTSTART:20230312T070000
END:DAYLIGHT
BEGIN:STANDARD
TZOFFSETFROM:-0400
TZOFFSETTO:-0500
TZNAME:EST
DTSTART:20231105T060000
END:STANDARD
BEGIN:DAYLIGHT
TZOFFSETFROM:-0500
TZOFFSETTO:-0400
TZNAME:EDT
DTSTART:20240310T070000
END:DAYLIGHT
BEGIN:STANDARD
TZOFFSETFROM:-0400
TZOFFSETTO:-0500
TZNAME:EST
DTSTART:20241103T060000
END:STANDARD
END:VTIMEZONE
BEGIN:VEVENT
DTSTART;VALUE=DATE:20231213
DTEND;VALUE=DATE:20240104
DTSTAMP:20260421T122516
CREATED:20230818T173645Z
LAST-MODIFIED:20230818T173821Z
UID:10033024-1702447200-1704261599@www.rhythmandmotion.ca
SUMMARY:Winter break
DESCRIPTION:
URL:https://www.rhythmandmotion.ca/event/winter-break
LOCATION:The Continental Dance Club\, 3141 Wharton Way\, Mississauga\, Ontario\, L4X 2B6\, Canada
END:VEVENT
BEGIN:VEVENT
DTSTART;TZID=America/Toronto:20240110T190000
DTEND;TZID=America/Toronto:20240110T203000
DTSTAMP:20260421T122516
CREATED:20231222T015130Z
LAST-MODIFIED:20240109T162828Z
UID:10033031-1704913200-1704918600@www.rhythmandmotion.ca
SUMMARY:Argentine Tango Beginner Intermediate
DESCRIPTION:Session #1 \n4 classes:\nWednesday\, January 10\, 2024\nWednesday\, January 17\, 2024\nWednesday\, January 24\, 2024\nWednesday\, January 31\, 2024
URL:https://www.rhythmandmotion.ca/event/argentine-tango-beginner-intermediate-13
LOCATION:The Continental Dance Club\, 3141 Wharton Way\, Mississauga\, Ontario\, L4X 2B6\, Canada
CATEGORIES:Argentine Tango,Featured,Group Class
END:VEVENT
BEGIN:VEVENT
DTSTART;TZID=America/Toronto:20240110T203000
DTEND;TZID=America/Toronto:20240110T220000
DTSTAMP:20260421T122516
CREATED:20231222T015022Z
LAST-MODIFIED:20240109T180936Z
UID:10033030-1704918600-1704924000@www.rhythmandmotion.ca
SUMMARY:Argentine Tango Intermediate Advanced
DESCRIPTION:Session #1 \n4 classes:\nWednesday\, January 10\, 2024\nWednesday\, January 17\, 2024\nWednesday\, January 24\, 2024\nWednesday\, January 31\, 2024 \n  \nNote:\n2 class discount applies only to attendees taking both classes:\nArgentine Tango Beginner Intermediate and Argentine Tango Intermediate Advanced in the same session.
URL:https://www.rhythmandmotion.ca/event/argentine-tango-intermediate-advanced-15
LOCATION:The Continental Dance Club\, 3141 Wharton Way\, Mississauga\, Ontario\, L4X 2B6\, Canada
CATEGORIES:Argentine Tango,Featured,Group Class
END:VEVENT
BEGIN:VEVENT
DTSTART;VALUE=DATE:20240112
DTEND;VALUE=DATE:20240116
DTSTAMP:20260421T122516
CREATED:20230717T133629Z
LAST-MODIFIED:20231115T031222Z
UID:10032992-1705039200-1705298399@www.rhythmandmotion.ca
SUMMARY:Toronto Tango Marathon (cancelled)
DESCRIPTION:This event has been cancelled. \n 
URL:https://www.rhythmandmotion.ca/event/toronto-tango-marathon-2024
LOCATION:The Continental Dance Club\, 3141 Wharton Way\, Mississauga\, Ontario\, L4X 2B6\, Canada
CATEGORIES:Argentine Tango,Marathon
ATTACH;FMTTYPE=image/jpeg:https://www.rhythmandmotion.ca/wp-content/uploads/2023/07/TTM-2024-Postcard-4x6-Front-Ver1_1200.jpg
END:VEVENT
BEGIN:VEVENT
DTSTART;TZID=America/Toronto:20240117T190000
DTEND;TZID=America/Toronto:20240117T203000
DTSTAMP:20260421T122516
CREATED:20231222T015928Z
LAST-MODIFIED:20231222T015928Z
UID:10033035-1705518000-1705523400@www.rhythmandmotion.ca
SUMMARY:Argentine Tango Beginner Intermediate
DESCRIPTION:Session #1 \n4 classes:\nWednesday\, January 10\, 2024\nWednesday\, January 17\, 2024\nWednesday\, January 24\, 2024\nWednesday\, January 31\, 2024
URL:https://www.rhythmandmotion.ca/event/argentine-tango-beginner-intermediate-14/2024-01-17
LOCATION:The Continental Dance Club\, 3141 Wharton Way\, Mississauga\, Ontario\, L4X 2B6\, Canada
CATEGORIES:Argentine Tango,Group Class
END:VEVENT
BEGIN:VEVENT
DTSTART;TZID=America/Toronto:20240117T203000
DTEND;TZID=America/Toronto:20240117T220000
DTSTAMP:20260421T122516
CREATED:20231222T015920Z
LAST-MODIFIED:20231222T015920Z
UID:10033032-1705523400-1705528800@www.rhythmandmotion.ca
SUMMARY:Argentine Tango Intermediate Advanced
DESCRIPTION:Session #1 \n4 classes:\nWednesday\, January 10\, 2024\nWednesday\, January 17\, 2024\nWednesday\, January 24\, 2024\nWednesday\, January 31\, 2024
URL:https://www.rhythmandmotion.ca/event/argentine-tango-intermediate-advanced-16/2024-01-17
LOCATION:The Continental Dance Club\, 3141 Wharton Way\, Mississauga\, Ontario\, L4X 2B6\, Canada
CATEGORIES:Argentine Tango,Group Class
END:VEVENT
BEGIN:VEVENT
DTSTART;TZID=America/Toronto:20240124T190000
DTEND;TZID=America/Toronto:20240124T203000
DTSTAMP:20260421T122516
CREATED:20231222T015928Z
LAST-MODIFIED:20231222T015928Z
UID:10033036-1706122800-1706128200@www.rhythmandmotion.ca
SUMMARY:Argentine Tango Beginner Intermediate
DESCRIPTION:Session #1 \n4 classes:\nWednesday\, January 10\, 2024\nWednesday\, January 17\, 2024\nWednesday\, January 24\, 2024\nWednesday\, January 31\, 2024
URL:https://www.rhythmandmotion.ca/event/argentine-tango-beginner-intermediate-14/2024-01-24
LOCATION:The Continental Dance Club\, 3141 Wharton Way\, Mississauga\, Ontario\, L4X 2B6\, Canada
CATEGORIES:Argentine Tango,Group Class
END:VEVENT
BEGIN:VEVENT
DTSTART;TZID=America/Toronto:20240124T203000
DTEND;TZID=America/Toronto:20240124T220000
DTSTAMP:20260421T122516
CREATED:20231222T015920Z
LAST-MODIFIED:20231222T015920Z
UID:10033033-1706128200-1706133600@www.rhythmandmotion.ca
SUMMARY:Argentine Tango Intermediate Advanced
DESCRIPTION:Session #1 \n4 classes:\nWednesday\, January 10\, 2024\nWednesday\, January 17\, 2024\nWednesday\, January 24\, 2024\nWednesday\, January 31\, 2024
URL:https://www.rhythmandmotion.ca/event/argentine-tango-intermediate-advanced-16/2024-01-24
LOCATION:The Continental Dance Club\, 3141 Wharton Way\, Mississauga\, Ontario\, L4X 2B6\, Canada
CATEGORIES:Argentine Tango,Group Class
END:VEVENT
BEGIN:VEVENT
DTSTART;TZID=America/Toronto:20240127T210000
DTEND;TZID=America/Toronto:20240128T010000
DTSTAMP:20260421T122516
CREATED:20240102T200152Z
LAST-MODIFIED:20240104T232507Z
UID:10033038-1706389200-1706403600@www.rhythmandmotion.ca
SUMMARY:Milonga Portena - Winter Wonderland
DESCRIPTION:
URL:https://www.rhythmandmotion.ca/event/milonga-portena-2024-01-27
LOCATION:The Continental Dance Club\, 3141 Wharton Way\, Mississauga\, Ontario\, L4X 2B6\, Canada
CATEGORIES:Argentine Tango,Featured,Milonga
ATTACH;FMTTYPE=image/jpeg:https://www.rhythmandmotion.ca/wp-content/uploads/2024/01/Milonga-Portena-2024-01-27.jpg
END:VEVENT
BEGIN:VEVENT
DTSTART;TZID=America/Toronto:20240131T190000
DTEND;TZID=America/Toronto:20240131T203000
DTSTAMP:20260421T122516
CREATED:20231222T015928Z
LAST-MODIFIED:20231222T015928Z
UID:10033037-1706727600-1706733000@www.rhythmandmotion.ca
SUMMARY:Argentine Tango Beginner Intermediate
DESCRIPTION:Session #1 \n4 classes:\nWednesday\, January 10\, 2024\nWednesday\, January 17\, 2024\nWednesday\, January 24\, 2024\nWednesday\, January 31\, 2024
URL:https://www.rhythmandmotion.ca/event/argentine-tango-beginner-intermediate-14/2024-01-31
LOCATION:The Continental Dance Club\, 3141 Wharton Way\, Mississauga\, Ontario\, L4X 2B6\, Canada
CATEGORIES:Argentine Tango,Group Class
END:VEVENT
BEGIN:VEVENT
DTSTART;TZID=America/Toronto:20240131T203000
DTEND;TZID=America/Toronto:20240131T220000
DTSTAMP:20260421T122516
CREATED:20231222T015920Z
LAST-MODIFIED:20231222T015920Z
UID:10033034-1706733000-1706738400@www.rhythmandmotion.ca
SUMMARY:Argentine Tango Intermediate Advanced
DESCRIPTION:Session #1 \n4 classes:\nWednesday\, January 10\, 2024\nWednesday\, January 17\, 2024\nWednesday\, January 24\, 2024\nWednesday\, January 31\, 2024
URL:https://www.rhythmandmotion.ca/event/argentine-tango-intermediate-advanced-16/2024-01-31
LOCATION:The Continental Dance Club\, 3141 Wharton Way\, Mississauga\, Ontario\, L4X 2B6\, Canada
CATEGORIES:Argentine Tango,Group Class
END:VEVENT
END:VCALENDAR