BEGIN:VCALENDAR
VERSION:2.0
PRODID:-//Rhythm &amp; Motion Dance Studio - ECPv6.0.7.1//NONSGML v1.0//EN
CALSCALE:GREGORIAN
METHOD:PUBLISH
X-ORIGINAL-URL:https://www.rhythmandmotion.ca
X-WR-CALDESC:Events for Rhythm &amp; Motion Dance Studio
REFRESH-INTERVAL;VALUE=DURATION:PT1H
X-Robots-Tag:noindex
X-PUBLISHED-TTL:PT1H
BEGIN:VTIMEZONE
TZID:America/Toronto
BEGIN:DAYLIGHT
TZOFFSETFROM:-0500
TZOFFSETTO:-0400
TZNAME:EDT
DTSTART:20240310T070000
END:DAYLIGHT
BEGIN:STANDARD
TZOFFSETFROM:-0400
TZOFFSETTO:-0500
TZNAME:EST
DTSTART:20241103T060000
END:STANDARD
END:VTIMEZONE
BEGIN:VEVENT
DTSTART;TZID=America/Toronto:20240207T190000
DTEND;TZID=America/Toronto:20240207T220000
DTSTAMP:20260421T103034
CREATED:20240122T164305Z
LAST-MODIFIED:20240122T171626Z
UID:10033041-1707332400-1707343200@www.rhythmandmotion.ca
SUMMARY:Tango Drills for Leaders and Followers
DESCRIPTION:
URL:https://www.rhythmandmotion.ca/event/workshop-2024-02-07
LOCATION:The Continental Dance Club\, 3141 Wharton Way\, Mississauga\, Ontario\, L4X 2B6\, Canada
CATEGORIES:Argentine Tango,Featured,Workshop
ATTACH;FMTTYPE=image/jpeg:https://www.rhythmandmotion.ca/wp-content/uploads/2024/01/Tango_Technique-2024-02-07.jpg
END:VEVENT
BEGIN:VEVENT
DTSTART;TZID=America/Toronto:20240214T190000
DTEND;TZID=America/Toronto:20240214T220000
DTSTAMP:20260421T103034
CREATED:20240122T164528Z
LAST-MODIFIED:20240122T171639Z
UID:10033042-1707937200-1707948000@www.rhythmandmotion.ca
SUMMARY:Tango Drills for Leaders and Followers
DESCRIPTION:
URL:https://www.rhythmandmotion.ca/event/workshop-2024-02-14
LOCATION:The Continental Dance Club\, 3141 Wharton Way\, Mississauga\, Ontario\, L4X 2B6\, Canada
CATEGORIES:Argentine Tango,Featured,Workshop
ATTACH;FMTTYPE=image/jpeg:https://www.rhythmandmotion.ca/wp-content/uploads/2024/01/Tango_Technique-2024-02-07.jpg
END:VEVENT
BEGIN:VEVENT
DTSTART;TZID=America/Toronto:20240221T190000
DTEND;TZID=America/Toronto:20240221T220000
DTSTAMP:20260421T103034
CREATED:20240122T164707Z
LAST-MODIFIED:20240122T171655Z
UID:10033043-1708542000-1708552800@www.rhythmandmotion.ca
SUMMARY:Tango Drills for Leaders and Followers
DESCRIPTION:
URL:https://www.rhythmandmotion.ca/event/workshop-2024-02-21
LOCATION:The Continental Dance Club\, 3141 Wharton Way\, Mississauga\, Ontario\, L4X 2B6\, Canada
CATEGORIES:Argentine Tango,Featured,Workshop
ATTACH;FMTTYPE=image/jpeg:https://www.rhythmandmotion.ca/wp-content/uploads/2024/01/Tango_Technique-2024-02-07.jpg
END:VEVENT
BEGIN:VEVENT
DTSTART;TZID=America/Toronto:20240224T210000
DTEND;TZID=America/Toronto:20240225T010000
DTSTAMP:20260421T103034
CREATED:20240102T200547Z
LAST-MODIFIED:20240122T161738Z
UID:10033039-1708808400-1708822800@www.rhythmandmotion.ca
SUMMARY:Milonga Portena - Pretty in Pink
DESCRIPTION:
URL:https://www.rhythmandmotion.ca/event/milonga-portena-2024-02-24
LOCATION:The Continental Dance Club\, 3141 Wharton Way\, Mississauga\, Ontario\, L4X 2B6\, Canada
CATEGORIES:Argentine Tango,Featured,Milonga
ATTACH;FMTTYPE=image/jpeg:https://www.rhythmandmotion.ca/wp-content/uploads/2024/01/Milonga-Portena-2024-02-24-1.jpg
END:VEVENT
BEGIN:VEVENT
DTSTART;TZID=America/Toronto:20240228T190000
DTEND;TZID=America/Toronto:20240228T220000
DTSTAMP:20260421T103034
CREATED:20240122T164927Z
LAST-MODIFIED:20240122T180211Z
UID:10033044-1709146800-1709157600@www.rhythmandmotion.ca
SUMMARY:Milonga Drills for Leaders and Followers
DESCRIPTION:
URL:https://www.rhythmandmotion.ca/event/workshop-2024-02-28
LOCATION:The Continental Dance Club\, 3141 Wharton Way\, Mississauga\, Ontario\, L4X 2B6\, Canada
CATEGORIES:Argentine Tango,Featured,Workshop
ATTACH;FMTTYPE=image/jpeg:https://www.rhythmandmotion.ca/wp-content/uploads/2024/01/Milonga_Drills_Wendy-2024-02-28-1.jpg
END:VEVENT
END:VCALENDAR