BEGIN:VCALENDAR
VERSION:2.0
PRODID:-//Rhythm &amp; Motion Dance Studio - ECPv6.0.7.1//NONSGML v1.0//EN
CALSCALE:GREGORIAN
METHOD:PUBLISH
X-WR-CALNAME:Rhythm &amp; Motion Dance Studio
X-ORIGINAL-URL:https://www.rhythmandmotion.ca
X-WR-CALDESC:Events for Rhythm &amp; Motion Dance Studio
REFRESH-INTERVAL;VALUE=DURATION:PT1H
X-Robots-Tag:noindex
X-PUBLISHED-TTL:PT1H
BEGIN:VTIMEZONE
TZID:America/Toronto
BEGIN:DAYLIGHT
TZOFFSETFROM:-0500
TZOFFSETTO:-0400
TZNAME:EDT
DTSTART:20240310T070000
END:DAYLIGHT
BEGIN:STANDARD
TZOFFSETFROM:-0400
TZOFFSETTO:-0500
TZNAME:EST
DTSTART:20241103T060000
END:STANDARD
END:VTIMEZONE
BEGIN:VEVENT
DTSTART;TZID=America/Toronto:20240403T190000
DTEND;TZID=America/Toronto:20240403T203000
DTSTAMP:20260421T064137
CREATED:20240314T232751Z
LAST-MODIFIED:20240403T212548Z
UID:10033054-1712170800-1712176200@www.rhythmandmotion.ca
SUMMARY:Argentine Tango Beginner Intermediate
DESCRIPTION:4 week Session:\nWednesday\, April 3\, 2024\nWednesday\, April 10\, 2024\nWednesday\, April 17\, 2024\nWednesday\, April 24\, 2024
URL:https://www.rhythmandmotion.ca/event/argentine-tango-beginner-intermediate-17
LOCATION:The Continental Dance Club\, 3141 Wharton Way\, Mississauga\, Ontario\, L4X 2B6\, Canada
CATEGORIES:Argentine Tango,Group Class
END:VEVENT
BEGIN:VEVENT
DTSTART;TZID=America/Toronto:20240403T203000
DTEND;TZID=America/Toronto:20240403T220000
DTSTAMP:20260421T064137
CREATED:20240314T232802Z
LAST-MODIFIED:20240403T212323Z
UID:10033058-1712176200-1712181600@www.rhythmandmotion.ca
SUMMARY:Argentine Tango Intermediate Advanced
DESCRIPTION:4 week Session:\nWednesday\, April 3\, 2024\nWednesday\, April 10\, 2024\nWednesday\, April 17\, 2024\nWednesday\, April 24\, 2024 \nNote:\n2 class discount applies only to attendees taking both classes:\nArgentine Tango Beginner Intermediate and Argentine Tango Intermediate Advanced in the same session.\nArgentine Tango Beginner Intermediate is always at a regular price.\nArgentine Tango Intermediate Advanced is discounted.
URL:https://www.rhythmandmotion.ca/event/argentine-tango-intermediate-advanced-19
LOCATION:The Continental Dance Club\, 3141 Wharton Way\, Mississauga\, Ontario\, L4X 2B6\, Canada
CATEGORIES:Argentine Tango,Group Class
END:VEVENT
BEGIN:VEVENT
DTSTART;TZID=America/Toronto:20240410T190000
DTEND;TZID=America/Toronto:20240410T203000
DTSTAMP:20260421T064137
CREATED:20240314T232757Z
LAST-MODIFIED:20240314T232757Z
UID:10033055-1712775600-1712781000@www.rhythmandmotion.ca
SUMMARY:Argentine Tango Beginner Intermediate
DESCRIPTION:4 week Session:\nWednesday\, April 3\, 2024\nWednesday\, April 10\, 2024\nWednesday\, April 17\, 2024\nWednesday\, April 24\, 2024
URL:https://www.rhythmandmotion.ca/event/argentine-tango-beginner-intermediate-18/2024-04-10
LOCATION:The Continental Dance Club\, 3141 Wharton Way\, Mississauga\, Ontario\, L4X 2B6\, Canada
CATEGORIES:Argentine Tango,Group Class
END:VEVENT
BEGIN:VEVENT
DTSTART;TZID=America/Toronto:20240410T203000
DTEND;TZID=America/Toronto:20240410T220000
DTSTAMP:20260421T064137
CREATED:20240314T232807Z
LAST-MODIFIED:20240314T232807Z
UID:10033059-1712781000-1712786400@www.rhythmandmotion.ca
SUMMARY:Argentine Tango Intermediate Advanced
DESCRIPTION:4 week Session:\nWednesday\, April 3\, 2024\nWednesday\, April 10\, 2024\nWednesday\, April 17\, 2024\nWednesday\, April 24\, 2024
URL:https://www.rhythmandmotion.ca/event/argentine-tango-intermediate-advanced-20/2024-04-10
LOCATION:The Continental Dance Club\, 3141 Wharton Way\, Mississauga\, Ontario\, L4X 2B6\, Canada
CATEGORIES:Argentine Tango,Group Class
END:VEVENT
BEGIN:VEVENT
DTSTART;TZID=America/Toronto:20240417T190000
DTEND;TZID=America/Toronto:20240417T203000
DTSTAMP:20260421T064137
CREATED:20240314T232757Z
LAST-MODIFIED:20240314T232757Z
UID:10033056-1713380400-1713385800@www.rhythmandmotion.ca
SUMMARY:Argentine Tango Beginner Intermediate
DESCRIPTION:4 week Session:\nWednesday\, April 3\, 2024\nWednesday\, April 10\, 2024\nWednesday\, April 17\, 2024\nWednesday\, April 24\, 2024
URL:https://www.rhythmandmotion.ca/event/argentine-tango-beginner-intermediate-18/2024-04-17
LOCATION:The Continental Dance Club\, 3141 Wharton Way\, Mississauga\, Ontario\, L4X 2B6\, Canada
CATEGORIES:Argentine Tango,Group Class
END:VEVENT
BEGIN:VEVENT
DTSTART;TZID=America/Toronto:20240417T203000
DTEND;TZID=America/Toronto:20240417T220000
DTSTAMP:20260421T064137
CREATED:20240314T232807Z
LAST-MODIFIED:20240314T232807Z
UID:10033060-1713385800-1713391200@www.rhythmandmotion.ca
SUMMARY:Argentine Tango Intermediate Advanced
DESCRIPTION:4 week Session:\nWednesday\, April 3\, 2024\nWednesday\, April 10\, 2024\nWednesday\, April 17\, 2024\nWednesday\, April 24\, 2024
URL:https://www.rhythmandmotion.ca/event/argentine-tango-intermediate-advanced-20/2024-04-17
LOCATION:The Continental Dance Club\, 3141 Wharton Way\, Mississauga\, Ontario\, L4X 2B6\, Canada
CATEGORIES:Argentine Tango,Group Class
END:VEVENT
BEGIN:VEVENT
DTSTART;TZID=America/Toronto:20240424T190000
DTEND;TZID=America/Toronto:20240424T203000
DTSTAMP:20260421T064137
CREATED:20240314T232757Z
LAST-MODIFIED:20240314T232757Z
UID:10033057-1713985200-1713990600@www.rhythmandmotion.ca
SUMMARY:Argentine Tango Beginner Intermediate
DESCRIPTION:4 week Session:\nWednesday\, April 3\, 2024\nWednesday\, April 10\, 2024\nWednesday\, April 17\, 2024\nWednesday\, April 24\, 2024
URL:https://www.rhythmandmotion.ca/event/argentine-tango-beginner-intermediate-18/2024-04-24
LOCATION:The Continental Dance Club\, 3141 Wharton Way\, Mississauga\, Ontario\, L4X 2B6\, Canada
CATEGORIES:Argentine Tango,Group Class
END:VEVENT
BEGIN:VEVENT
DTSTART;TZID=America/Toronto:20240424T203000
DTEND;TZID=America/Toronto:20240424T220000
DTSTAMP:20260421T064137
CREATED:20240314T232807Z
LAST-MODIFIED:20240314T232807Z
UID:10033061-1713990600-1713996000@www.rhythmandmotion.ca
SUMMARY:Argentine Tango Intermediate Advanced
DESCRIPTION:4 week Session:\nWednesday\, April 3\, 2024\nWednesday\, April 10\, 2024\nWednesday\, April 17\, 2024\nWednesday\, April 24\, 2024
URL:https://www.rhythmandmotion.ca/event/argentine-tango-intermediate-advanced-20/2024-04-24
LOCATION:The Continental Dance Club\, 3141 Wharton Way\, Mississauga\, Ontario\, L4X 2B6\, Canada
CATEGORIES:Argentine Tango,Group Class
END:VEVENT
BEGIN:VEVENT
DTSTART;TZID=America/Toronto:20240427T210000
DTEND;TZID=America/Toronto:20240428T010000
DTSTAMP:20260421T064137
CREATED:20240322T142354Z
LAST-MODIFIED:20240322T142639Z
UID:10033063-1714251600-1714266000@www.rhythmandmotion.ca
SUMMARY:Milonga Portena
DESCRIPTION:
URL:https://www.rhythmandmotion.ca/event/milonga-portena-2024-04-27
LOCATION:The Continental Dance Club\, 3141 Wharton Way\, Mississauga\, Ontario\, L4X 2B6\, Canada
CATEGORIES:Argentine Tango,Featured,Milonga
ATTACH;FMTTYPE=image/jpeg:https://www.rhythmandmotion.ca/wp-content/uploads/2024/03/Milonga-Portena-2024-04-27.jpg
END:VEVENT
END:VCALENDAR